0.3749110000
0.0000000000
0.0000000000
-0.3749110000
4321387.6006014142
201857.2939912323
