0.3752370000
0.0000000000
0.0000000000
-0.3752370000
4321935.6223605871
201599.8260129246
