0.3750930000
0.0000000000
0.0000000000
-0.3750930000
4322413.6362565598
201415.0052759329
