0.3750850000
0.0000000000
0.0000000000
-0.3750850000
4322972.6629584180
201249.7667833891
