0.3750770000
0.0000000000
0.0000000000
-0.3750770000
4323547.1593104051
201069.2511514346
