0.3748360000
0.0000000000
0.0000000000
-0.3748360000
4324069.1048969980
200916.7342768600
