0.3753820000
0.0000000000
0.0000000000
-0.3753820000
4324551.0725245215
200812.7572437185
