0.3746880000
0.0000000000
0.0000000000
-0.3746880000
4324864.7336090114
200803.0490156541
